BEGIN:VCALENDAR
VERSION:2.0
PRODID:-//Gateway PGA Section - ECPv6.15.20//NONSGML v1.0//EN
CALSCALE:GREGORIAN
METHOD:PUBLISH
X-WR-CALNAME:Gateway PGA Section
X-ORIGINAL-URL:https://gatewaypga.org
X-WR-CALDESC:Events for Gateway PGA Section
REFRESH-INTERVAL;VALUE=DURATION:PT1H
X-Robots-Tag:noindex
X-PUBLISHED-TTL:PT1H
BEGIN:VTIMEZONE
TZID:America/Chicago
BEGIN:DAYLIGHT
TZOFFSETFROM:-0600
TZOFFSETTO:-0500
TZNAME:CDT
DTSTART:20220313T080000
END:DAYLIGHT
BEGIN:STANDARD
TZOFFSETFROM:-0500
TZOFFSETTO:-0600
TZNAME:CST
DTSTART:20221106T070000
END:STANDARD
BEGIN:DAYLIGHT
TZOFFSETFROM:-0600
TZOFFSETTO:-0500
TZNAME:CDT
DTSTART:20230312T080000
END:DAYLIGHT
BEGIN:STANDARD
TZOFFSETFROM:-0500
TZOFFSETTO:-0600
TZNAME:CST
DTSTART:20231105T070000
END:STANDARD
BEGIN:DAYLIGHT
TZOFFSETFROM:-0600
TZOFFSETTO:-0500
TZNAME:CDT
DTSTART:20240310T080000
END:DAYLIGHT
BEGIN:STANDARD
TZOFFSETFROM:-0500
TZOFFSETTO:-0600
TZNAME:CST
DTSTART:20241103T070000
END:STANDARD
BEGIN:DAYLIGHT
TZOFFSETFROM:-0600
TZOFFSETTO:-0500
TZNAME:CDT
DTSTART:20250309T080000
END:DAYLIGHT
BEGIN:STANDARD
TZOFFSETFROM:-0500
TZOFFSETTO:-0600
TZNAME:CST
DTSTART:20251102T070000
END:STANDARD
BEGIN:DAYLIGHT
TZOFFSETFROM:-0600
TZOFFSETTO:-0500
TZNAME:CDT
DTSTART:20260308T080000
END:DAYLIGHT
BEGIN:STANDARD
TZOFFSETFROM:-0500
TZOFFSETTO:-0600
TZNAME:CST
DTSTART:20261101T070000
END:STANDARD
END:VTIMEZONE
BEGIN:VEVENT
DTSTART;TZID=America/Chicago:20250505T000000
DTEND;TZID=America/Chicago:20250505T000000
DTSTAMP:20260424T111441
CREATED:20250116T151055Z
LAST-MODIFIED:20250116T151055Z
UID:10000297-1746403200-1746403200@gatewaypga.org
SUMMARY:Gateway PGA Professional Tournament  | 27 Hole Par 3 | Oak Brook GC
DESCRIPTION:27 Hole Par 3
URL:https://gatewaypga.org/event/gateway-pga-professional-tournament-27-hole-par-3-oak-brook-gc/
LOCATION:Oak Brook GC
CATEGORIES:Gateway PGA,Section Event,Tournaments
ORGANIZER;CN="Gateway PGA":MAILTO:gateway@pgahq.com
END:VEVENT
BEGIN:VEVENT
DTSTART;TZID=America/Chicago:20230714T000000
DTEND;TZID=America/Chicago:20230714T000000
DTSTAMP:20260424T111441
CREATED:20230526T165248Z
LAST-MODIFIED:20230526T165248Z
UID:10000251-1689292800-1689292800@gatewaypga.org
SUMMARY:Junior Golf | JDT | Oak Brook GC
DESCRIPTION:
URL:https://gatewaypga.org/event/junior-golf-jdt-oak-brook-gc/
LOCATION:Oak Brook GC
CATEGORIES:Junior Golf,PGA Reach Gateway
ORGANIZER;CN="Gateway PGA":MAILTO:gateway@pgahq.com
END:VEVENT
BEGIN:VEVENT
DTSTART;TZID=America/Chicago:20230714T000000
DTEND;TZID=America/Chicago:20230714T000000
DTSTAMP:20260424T111441
CREATED:20230526T165247Z
LAST-MODIFIED:20230526T165247Z
UID:10000249-1689292800-1689292800@gatewaypga.org
SUMMARY:Junior Golf | 9 Hole | Oak Brook GC
DESCRIPTION:
URL:https://gatewaypga.org/event/junior-golf-9-hole-oak-brook-gc/
LOCATION:Oak Brook GC
CATEGORIES:Junior Golf,PGA Reach Gateway
ORGANIZER;CN="Gateway PGA":MAILTO:gateway@pgahq.com
END:VEVENT
BEGIN:VEVENT
DTSTART;TZID=America/Chicago:20230714T000000
DTEND;TZID=America/Chicago:20230714T000000
DTSTAMP:20260424T111441
CREATED:20230526T165246Z
LAST-MODIFIED:20230526T165246Z
UID:10000250-1689292800-1689292800@gatewaypga.org
SUMMARY:Junior Golf | 18 Hole | Oak Brook GC
DESCRIPTION:
URL:https://gatewaypga.org/event/junior-golf-18-hole-oak-brook-gc/
LOCATION:Oak Brook GC
CATEGORIES:Junior Golf,PGA Reach Gateway
ORGANIZER;CN="Gateway PGA":MAILTO:gateway@pgahq.com
END:VEVENT
BEGIN:VEVENT
DTSTART;VALUE=DATE:20230710
DTEND;VALUE=DATE:20230711
DTSTAMP:20260424T111441
CREATED:20230313T195545Z
LAST-MODIFIED:20230314T135437Z
UID:10000191-1688947200-1689033599@gatewaypga.org
SUMMARY:Oak Brook Par 3
DESCRIPTION:
URL:https://gatewaypga.org/event/oakbrook-par-3/
LOCATION:Oak Brook GC
CATEGORIES:Homepage Events,Tournaments
ORGANIZER;CN="Gateway PGA":MAILTO:gateway@pgahq.com
END:VEVENT
END:VCALENDAR